Package: KEGGgraph Version: 1.52.0 Command: rm -rf KEGGgraph.buildbin-libdir && mkdir KEGGgraph.buildbin-libdir && /Users/biocbuild/BBS/utils/build-universal.sh KEGGgraph_1.52.0.tar.gz /Library/Frameworks/R.framework/Versions/Current/Resources/bin/R KEGGgraph.buildbin-libdir StartedAt: 2021-10-15 02:52:13 -0400 (Fri, 15 Oct 2021) EndedAt: 2021-10-15 02:53:18 -0400 (Fri, 15 Oct 2021) EllapsedTime: 64.3 seconds RetCode: 0 Status: OK PackageFile: KEGGgraph_1.52.0.tgz PackageFileSize: 1.731 MiB