Package: KEGGgraph Version: 1.52.0 Command: /Library/Frameworks/R.framework/Versions/Current/Resources/bin/R CMD check --install=check:KEGGgraph.install-out.txt --library=/Library/Frameworks/R.framework/Versions/Current/Resources/library --no-vignettes --timings KEGGgraph_1.52.0.tar.gz StartedAt: 2021-10-14 20:24:43 -0400 (Thu, 14 Oct 2021) EndedAt: 2021-10-14 20:26:20 -0400 (Thu, 14 Oct 2021) EllapsedTime: 97.4 seconds RetCode: 0 Status: OK CheckDir: KEGGgraph.Rcheck Warnings: 0