Package: KEGGgraph Version: 1.52.0 Command: /Library/Frameworks/R.framework/Versions/Current/Resources/bin/R CMD INSTALL KEGGgraph StartedAt: 2021-10-14 08:38:55 -0400 (Thu, 14 Oct 2021) EndedAt: 2021-10-14 08:39:47 -0400 (Thu, 14 Oct 2021) EllapsedTime: 52.0 seconds RetCode: 0 Status: OK