Package: KEGGgraph Version: 1.52.0 Command: /home/biocbuild/bbs-3.13-bioc/R/bin/R CMD build --keep-empty-dirs --no-resave-data KEGGgraph StartedAt: 2021-10-14 07:34:50 -0400 (Thu, 14 Oct 2021) EndedAt: 2021-10-14 07:35:09 -0400 (Thu, 14 Oct 2021) EllapsedTime: 18.9 seconds RetCode: 0 Status: OK PackageFile: KEGGgraph_1.52.0.tar.gz PackageFileSize: 1.394 MiB