Package: KEGGgraph Version: 1.52.0 Command: /home/biocbuild/bbs-3.13-bioc/R/bin/R CMD check --install=check:KEGGgraph.install-out.txt --library=/home/biocbuild/bbs-3.13-bioc/R/library --no-vignettes --timings KEGGgraph_1.52.0.tar.gz StartedAt: 2021-10-14 10:21:21 -0400 (Thu, 14 Oct 2021) EndedAt: 2021-10-14 10:22:21 -0400 (Thu, 14 Oct 2021) EllapsedTime: 60.0 seconds RetCode: 0 Status: OK CheckDir: KEGGgraph.Rcheck Warnings: 0