Package: KEGGgraph Version: 1.52.0 Command: C:\Users\biocbuild\bbs-3.13-bioc\R\bin\R.exe CMD check --force-multiarch --install=check:KEGGgraph.install-out.txt --library=C:\Users\biocbuild\bbs-3.13-bioc\R\library --no-vignettes --timings KEGGgraph_1.52.0.tar.gz StartedAt: 2021-10-15 01:01:56 -0400 (Fri, 15 Oct 2021) EndedAt: 2021-10-15 01:03:54 -0400 (Fri, 15 Oct 2021) EllapsedTime: 118.0 seconds RetCode: 0 Status: OK CheckDir: KEGGgraph.Rcheck Warnings: 0