Package: KEGGlincs Version: 1.18.0 Command: /Library/Frameworks/R.framework/Versions/Current/Resources/bin/R CMD build --keep-empty-dirs --no-resave-data KEGGlincs StartedAt: 2021-10-14 12:50:44 -0400 (Thu, 14 Oct 2021) EndedAt: 2021-10-14 12:51:39 -0400 (Thu, 14 Oct 2021) EllapsedTime: 55.0 seconds RetCode: 0 Status: OK PackageFile: KEGGlincs_1.18.0.tar.gz PackageFileSize: 4.215 MiB