Package: KEGGlincs Version: 1.18.0 Command: /home/biocbuild/bbs-3.13-bioc/R/bin/R CMD check --install=check:KEGGlincs.install-out.txt --library=/home/biocbuild/bbs-3.13-bioc/R/library --no-vignettes --timings KEGGlincs_1.18.0.tar.gz StartedAt: 2021-10-14 10:21:21 -0400 (Thu, 14 Oct 2021) EndedAt: 2021-10-14 10:24:14 -0400 (Thu, 14 Oct 2021) EllapsedTime: 172.7 seconds RetCode: 0 Status: OK CheckDir: KEGGlincs.Rcheck Warnings: 0