Package: KEGGlincs Version: 1.18.0 Command: /home/biocbuild/bbs-3.13-bioc/R/bin/R CMD INSTALL KEGGlincs StartedAt: 2021-10-14 06:09:06 -0400 (Thu, 14 Oct 2021) EndedAt: 2021-10-14 06:09:22 -0400 (Thu, 14 Oct 2021) EllapsedTime: 15.9 seconds RetCode: 0 Status: OK