git_url: https://git.bioconductor.org/packages/LACE git_branch: RELEASE_3_13 git_last_commit: 9293f28 git_last_commit_date: 2021-05-19 12:52:34 -0400 (Wed, 19 May 2021) Package: LACE Version: 1.4.0 Maintainer: Davide Maspero MaintainerEmail: d.maspero at campus.unimib.it