Package: LACE Version: 1.4.0 Command: /home/biocbuild/bbs-3.13-bioc/R/bin/R CMD INSTALL LACE StartedAt: 2021-10-14 06:12:24 -0400 (Thu, 14 Oct 2021) EndedAt: 2021-10-14 06:12:42 -0400 (Thu, 14 Oct 2021) EllapsedTime: 17.8 seconds RetCode: 0 Status: OK