Package: LBE Version: 1.60.0 Command: rm -rf LBE.buildbin-libdir && mkdir LBE.buildbin-libdir && /Users/biocbuild/BBS/utils/build-universal.sh LBE_1.60.0.tar.gz /Library/Frameworks/R.framework/Versions/Current/Resources/bin/R LBE.buildbin-libdir StartedAt: 2021-10-15 02:53:02 -0400 (Fri, 15 Oct 2021) EndedAt: 2021-10-15 02:54:05 -0400 (Fri, 15 Oct 2021) EllapsedTime: 63.2 seconds RetCode: 0 Status: OK PackageFile: LBE_1.60.0.tgz PackageFileSize: 836.6 KiB