Package: LBE Version: 1.60.0 Command: /Library/Frameworks/R.framework/Versions/Current/Resources/bin/R CMD build --keep-empty-dirs --no-resave-data LBE StartedAt: 2021-10-14 12:51:49 -0400 (Thu, 14 Oct 2021) EndedAt: 2021-10-14 12:51:59 -0400 (Thu, 14 Oct 2021) EllapsedTime: 9.9 seconds RetCode: 0 Status: OK PackageFile: LBE_1.60.0.tar.gz PackageFileSize: 809.1 KiB