Package: LBE Version: 1.60.0 Command: /home/biocbuild/bbs-3.13-bioc/R/bin/R CMD INSTALL LBE StartedAt: 2021-10-14 06:02:44 -0400 (Thu, 14 Oct 2021) EndedAt: 2021-10-14 06:02:53 -0400 (Thu, 14 Oct 2021) EllapsedTime: 9.5 seconds RetCode: 0 Status: OK