git_url: https://git.bioconductor.org/packages/LPEadj git_branch: RELEASE_3_13 git_last_commit: 40e7947 git_last_commit_date: 2021-05-19 11:40:54 -0400 (Wed, 19 May 2021) Package: LPEadj Version: 1.52.0 Maintainer: Carl Murie MaintainerEmail: carl.murie at mcgill.ca