Package: LPEadj Version: 1.52.0 Command: /Library/Frameworks/R.framework/Versions/Current/Resources/bin/R CMD build --keep-empty-dirs --no-resave-data LPEadj StartedAt: 2021-10-14 12:54:59 -0400 (Thu, 14 Oct 2021) EndedAt: 2021-10-14 12:55:15 -0400 (Thu, 14 Oct 2021) EllapsedTime: 16.3 seconds RetCode: 0 Status: OK PackageFile: LPEadj_1.52.0.tar.gz PackageFileSize: 1.41 MiB