Package: LPEadj Version: 1.52.0 Command: rm -rf LPEadj.buildbin-libdir && mkdir LPEadj.buildbin-libdir && C:\Users\biocbuild\bbs-3.13-bioc\R\bin\R.exe CMD INSTALL --merge-multiarch --build --library=LPEadj.buildbin-libdir LPEadj_1.52.0.tar.gz StartedAt: 2021-10-15 10:07:07 -0400 (Fri, 15 Oct 2021) EndedAt: 2021-10-15 10:08:35 -0400 (Fri, 15 Oct 2021) EllapsedTime: 88.6 seconds RetCode: 0 Status: OK PackageFile: LPEadj_1.52.0.zip PackageFileSize: 534.5 KiB