git_url: https://git.bioconductor.org/packages/LRBaseDbi git_branch: RELEASE_3_13 git_last_commit: 4c1b2fd git_last_commit_date: 2021-05-19 12:36:57 -0400 (Wed, 19 May 2021) Package: LRBaseDbi Version: 2.2.0 Maintainer: Koki Tsuyuzaki MaintainerEmail: k.t.the-answer at hotmail.co.jp