Package: LRcell Version: 1.0.0 Command: chmod a+r LRcell -R && C:\Users\biocbuild\bbs-3.13-bioc\R\bin\R.exe CMD build --keep-empty-dirs --no-resave-data LRcell StartedAt: 2021-10-14 15:18:06 -0400 (Thu, 14 Oct 2021) EndedAt: 2021-10-14 15:19:37 -0400 (Thu, 14 Oct 2021) EllapsedTime: 91.0 seconds RetCode: 0 Status: OK PackageFile: LRcell_1.0.0.tar.gz PackageFileSize: 665.9 KiB