Package: LedPred Version: 1.26.0 Command: /home/biocbuild/bbs-3.13-bioc/R/bin/R CMD build --keep-empty-dirs --no-resave-data LedPred StartedAt: 2021-10-14 07:35:20 -0400 (Thu, 14 Oct 2021) EndedAt: 2021-10-14 07:35:35 -0400 (Thu, 14 Oct 2021) EllapsedTime: 15.3 seconds RetCode: 0 Status: OK PackageFile: LedPred_1.26.0.tar.gz PackageFileSize: 1.363 MiB