Package: LedPred Version: 1.26.0 Command: /home/biocbuild/bbs-3.13-bioc/R/bin/R CMD INSTALL LedPred StartedAt: 2021-10-14 06:10:22 -0400 (Thu, 14 Oct 2021) EndedAt: 2021-10-14 06:10:31 -0400 (Thu, 14 Oct 2021) EllapsedTime: 9.4 seconds RetCode: 0 Status: OK