Package: LoomExperiment Version: 1.10.1 Command: /Library/Frameworks/R.framework/Versions/Current/Resources/bin/R CMD build --keep-empty-dirs --no-resave-data LoomExperiment StartedAt: 2021-10-14 12:54:41 -0400 (Thu, 14 Oct 2021) EndedAt: 2021-10-14 12:55:32 -0400 (Thu, 14 Oct 2021) EllapsedTime: 51.6 seconds RetCode: 0 Status: OK PackageFile: LoomExperiment_1.10.1.tar.gz PackageFileSize: 252.5 KiB