Package: LoomExperiment Version: 1.10.1 Command: /home/biocbuild/bbs-3.13-bioc/R/bin/R CMD build --keep-empty-dirs --no-resave-data LoomExperiment StartedAt: 2021-10-14 07:36:21 -0400 (Thu, 14 Oct 2021) EndedAt: 2021-10-14 07:36:59 -0400 (Thu, 14 Oct 2021) EllapsedTime: 38.5 seconds RetCode: 0 Status: OK PackageFile: LoomExperiment_1.10.1.tar.gz PackageFileSize: 252.5 KiB