Package: LoomExperiment Version: 1.10.1 Command: /home/biocbuild/bbs-3.13-bioc/R/bin/R CMD check --install=check:LoomExperiment.install-out.txt --library=/home/biocbuild/bbs-3.13-bioc/R/library --no-vignettes --timings LoomExperiment_1.10.1.tar.gz StartedAt: 2021-10-14 10:23:48 -0400 (Thu, 14 Oct 2021) EndedAt: 2021-10-14 10:26:27 -0400 (Thu, 14 Oct 2021) EllapsedTime: 159.0 seconds RetCode: 0 Status: OK CheckDir: LoomExperiment.Rcheck Warnings: 0