Package: LoomExperiment Version: 1.10.1 Command: /home/biocbuild/bbs-3.13-bioc/R/bin/R CMD INSTALL LoomExperiment StartedAt: 2021-10-14 06:20:14 -0400 (Thu, 14 Oct 2021) EndedAt: 2021-10-14 06:20:35 -0400 (Thu, 14 Oct 2021) EllapsedTime: 21.3 seconds RetCode: 0 Status: OK