Package: LoomExperiment Version: 1.10.1 Command: rm -rf LoomExperiment.buildbin-libdir && mkdir LoomExperiment.buildbin-libdir && C:\Users\biocbuild\bbs-3.13-bioc\R\bin\R.exe CMD INSTALL --merge-multiarch --build --library=LoomExperiment.buildbin-libdir LoomExperiment_1.10.1.tar.gz StartedAt: 2021-10-15 10:06:41 -0400 (Fri, 15 Oct 2021) EndedAt: 2021-10-15 10:08:11 -0400 (Fri, 15 Oct 2021) EllapsedTime: 89.6 seconds RetCode: 0 Status: OK PackageFile: LoomExperiment_1.10.1.zip PackageFileSize: 909.9 KiB