Package: LoomExperiment Version: 1.10.1 Command: C:\cygwin\bin\curl.exe -O http://155.52.207.165/BBS/3.13/bioc/src/contrib/LoomExperiment_1.10.1.tar.gz && rm -rf LoomExperiment.buildbin-libdir && mkdir LoomExperiment.buildbin-libdir && C:\Users\biocbuild\bbs-3.13-bioc\R\bin\R.exe CMD INSTALL --merge-multiarch --build --library=LoomExperiment.buildbin-libdir LoomExperiment_1.10.1.tar.gz && C:\Users\biocbuild\bbs-3.13-bioc\R\bin\R.exe CMD INSTALL LoomExperiment_1.10.1.zip && rm LoomExperiment_1.10.1.tar.gz LoomExperiment_1.10.1.zip StartedAt: 2021-10-14 09:52:54 -0400 (Thu, 14 Oct 2021) EndedAt: 2021-10-14 09:54:04 -0400 (Thu, 14 Oct 2021) EllapsedTime: 70.3 seconds RetCode: 0 Status: OK