Package: M3C Version: 1.14.0 Command: /Library/Frameworks/R.framework/Versions/Current/Resources/bin/R CMD build --keep-empty-dirs --no-resave-data M3C StartedAt: 2021-10-14 12:55:38 -0400 (Thu, 14 Oct 2021) EndedAt: 2021-10-14 12:56:34 -0400 (Thu, 14 Oct 2021) EllapsedTime: 56.3 seconds RetCode: 0 Status: OK PackageFile: M3C_1.14.0.tar.gz PackageFileSize: 583.5 KiB