Package: M3C Version: 1.14.0 Command: /home/biocbuild/bbs-3.13-bioc/R/bin/R CMD check --install=check:M3C.install-out.txt --library=/home/biocbuild/bbs-3.13-bioc/R/library --no-vignettes --timings M3C_1.14.0.tar.gz StartedAt: 2021-10-14 10:24:33 -0400 (Thu, 14 Oct 2021) EndedAt: 2021-10-14 10:25:43 -0400 (Thu, 14 Oct 2021) EllapsedTime: 70.0 seconds RetCode: 0 Status: OK CheckDir: M3C.Rcheck Warnings: 0