Package: MAGAR Version: 1.0.1 Command: rm -rf MAGAR.buildbin-libdir && mkdir MAGAR.buildbin-libdir && /Users/biocbuild/BBS/utils/build-universal.sh MAGAR_1.0.1.tar.gz /Library/Frameworks/R.framework/Versions/Current/Resources/bin/R MAGAR.buildbin-libdir StartedAt: 2021-10-15 02:57:01 -0400 (Fri, 15 Oct 2021) EndedAt: 2021-10-15 02:59:05 -0400 (Fri, 15 Oct 2021) EllapsedTime: 123.2 seconds RetCode: 0 Status: OK PackageFile: MAGAR_1.0.1.tgz PackageFileSize: 1.379 MiB