Package: MAGAR Version: 1.0.1 Command: /Library/Frameworks/R.framework/Versions/Current/Resources/bin/R CMD check --install=check:MAGAR.install-out.txt --library=/Library/Frameworks/R.framework/Versions/Current/Resources/library --no-vignettes --timings MAGAR_1.0.1.tar.gz StartedAt: 2021-10-14 20:37:02 -0400 (Thu, 14 Oct 2021) EndedAt: 2021-10-14 20:46:48 -0400 (Thu, 14 Oct 2021) EllapsedTime: 586.2 seconds RetCode: 0 Status: OK CheckDir: MAGAR.Rcheck Warnings: 0