git_url: https://git.bioconductor.org/packages/MAGeCKFlute git_branch: RELEASE_3_13 git_last_commit: 119a2de git_last_commit_date: 2021-05-19 12:32:20 -0400 (Wed, 19 May 2021) Package: MAGeCKFlute Version: 1.12.0 Maintainer: Wubing Zhang MaintainerEmail: Watson5bZhang at gmail.com