git_url: https://git.bioconductor.org/packages/MBASED git_branch: RELEASE_3_13 git_last_commit: 8b51d18 git_last_commit_date: 2021-05-19 12:07:02 -0400 (Wed, 19 May 2021) Package: MBASED Version: 1.26.0 Maintainer: Oleg Mayba MaintainerEmail: mayba.oleg at gene.com