Package: MBASED Version: 1.26.0 Command: /Library/Frameworks/R.framework/Versions/Current/Resources/bin/R CMD INSTALL MBASED StartedAt: 2021-10-14 09:11:39 -0400 (Thu, 14 Oct 2021) EndedAt: 2021-10-14 09:12:31 -0400 (Thu, 14 Oct 2021) EllapsedTime: 52.5 seconds RetCode: 0 Status: OK