Package: MBASED Version: 1.26.0 Command: chmod a+r MBASED -R && C:\Users\biocbuild\bbs-3.13-bioc\R\bin\R.exe CMD build --keep-empty-dirs --no-resave-data MBASED StartedAt: 2021-10-14 15:24:34 -0400 (Thu, 14 Oct 2021) EndedAt: 2021-10-14 15:27:52 -0400 (Thu, 14 Oct 2021) EllapsedTime: 198.2 seconds RetCode: 0 Status: OK PackageFile: MBASED_1.26.0.tar.gz PackageFileSize: 340.4 KiB