Package: MBQN Version: 2.4.0 Command: chmod a+r MBQN -R && C:\Users\biocbuild\bbs-3.13-bioc\R\bin\R.exe CMD build --keep-empty-dirs --no-resave-data MBQN StartedAt: 2021-10-14 15:25:06 -0400 (Thu, 14 Oct 2021) EndedAt: 2021-10-14 15:25:52 -0400 (Thu, 14 Oct 2021) EllapsedTime: 45.8 seconds RetCode: 1 Status: ERROR PackageFile: None PackageFileSize: NA