Package: MCbiclust Version: 1.16.0 Command: /home/biocbuild/bbs-3.13-bioc/R/bin/R CMD build --keep-empty-dirs --no-resave-data MCbiclust StartedAt: 2021-10-14 07:39:11 -0400 (Thu, 14 Oct 2021) EndedAt: 2021-10-14 07:40:15 -0400 (Thu, 14 Oct 2021) EllapsedTime: 63.7 seconds RetCode: 0 Status: OK PackageFile: MCbiclust_1.16.0.tar.gz PackageFileSize: 6.194 MiB