Package: MCbiclust Version: 1.16.0 Command: /home/biocbuild/bbs-3.13-bioc/R/bin/R CMD check --install=check:MCbiclust.install-out.txt --library=/home/biocbuild/bbs-3.13-bioc/R/library --no-vignettes --timings MCbiclust_1.16.0.tar.gz StartedAt: 2021-10-14 10:27:36 -0400 (Thu, 14 Oct 2021) EndedAt: 2021-10-14 10:32:34 -0400 (Thu, 14 Oct 2021) EllapsedTime: 298.0 seconds RetCode: 0 Status: OK CheckDir: MCbiclust.Rcheck Warnings: 0