Package: MCbiclust Version: 1.16.0 Command: rm -rf MCbiclust.buildbin-libdir && mkdir MCbiclust.buildbin-libdir && C:\Users\biocbuild\bbs-3.13-bioc\R\bin\R.exe CMD INSTALL --merge-multiarch --build --library=MCbiclust.buildbin-libdir MCbiclust_1.16.0.tar.gz StartedAt: 2021-10-15 10:13:54 -0400 (Fri, 15 Oct 2021) EndedAt: 2021-10-15 10:15:25 -0400 (Fri, 15 Oct 2021) EllapsedTime: 90.2 seconds RetCode: 0 Status: OK PackageFile: MCbiclust_1.16.0.zip PackageFileSize: 5.153 MiB