Package: MEAL Version: 1.22.0 Command: /Library/Frameworks/R.framework/Versions/Current/Resources/bin/R CMD INSTALL MEAL StartedAt: 2021-10-14 10:15:16 -0400 (Thu, 14 Oct 2021) EndedAt: 2021-10-14 10:16:10 -0400 (Thu, 14 Oct 2021) EllapsedTime: 54.7 seconds RetCode: 0 Status: OK