Package: MEAL Version: 1.22.0 Command: /home/biocbuild/bbs-3.13-bioc/R/bin/R CMD INSTALL MEAL StartedAt: 2021-10-14 06:33:46 -0400 (Thu, 14 Oct 2021) EndedAt: 2021-10-14 06:34:29 -0400 (Thu, 14 Oct 2021) EllapsedTime: 42.4 seconds RetCode: 0 Status: OK