Package: MEAL Version: 1.22.0 Command: C:\Users\biocbuild\bbs-3.13-bioc\R\bin\R.exe CMD check --force-multiarch --install=check:MEAL.install-out.txt --library=C:\Users\biocbuild\bbs-3.13-bioc\R\library --no-vignettes --timings MEAL_1.22.0.tar.gz StartedAt: 2021-10-15 01:28:16 -0400 (Fri, 15 Oct 2021) EndedAt: 2021-10-15 01:35:39 -0400 (Fri, 15 Oct 2021) EllapsedTime: 442.6 seconds RetCode: 0 Status: WARNINGS CheckDir: MEAL.Rcheck Warnings: 4