git_url: https://git.bioconductor.org/packages/MEB git_branch: RELEASE_3_13 git_last_commit: 818e7d9 git_last_commit_date: 2021-05-19 12:46:32 -0400 (Wed, 19 May 2021) Package: MEB Version: 1.6.0 Maintainer: Jiadi Zhu MaintainerEmail: 2160090406 at email.szu.edu.cn