Package: MEB Version: 1.6.0 Command: rm -rf MEB.buildbin-libdir && mkdir MEB.buildbin-libdir && /Users/biocbuild/BBS/utils/build-universal.sh MEB_1.6.0.tar.gz /Library/Frameworks/R.framework/Versions/Current/Resources/bin/R MEB.buildbin-libdir StartedAt: 2021-10-15 03:00:29 -0400 (Fri, 15 Oct 2021) EndedAt: 2021-10-15 03:01:33 -0400 (Fri, 15 Oct 2021) EllapsedTime: 63.4 seconds RetCode: 0 Status: OK PackageFile: MEB_1.6.0.tgz PackageFileSize: 1.708 MiB