Package: MEB Version: 1.6.0 Command: /Library/Frameworks/R.framework/Versions/Current/Resources/bin/R CMD check --install=check:MEB.install-out.txt --library=/Library/Frameworks/R.framework/Versions/Current/Resources/library --no-vignettes --timings MEB_1.6.0.tar.gz StartedAt: 2021-10-14 20:45:46 -0400 (Thu, 14 Oct 2021) EndedAt: 2021-10-14 20:48:43 -0400 (Thu, 14 Oct 2021) EllapsedTime: 176.2 seconds RetCode: 0 Status: OK CheckDir: MEB.Rcheck Warnings: 0