Package: MEDIPS Version: 1.44.0 Command: /Library/Frameworks/R.framework/Versions/Current/Resources/bin/R CMD INSTALL MEDIPS StartedAt: 2021-10-14 09:55:05 -0400 (Thu, 14 Oct 2021) EndedAt: 2021-10-14 09:56:12 -0400 (Thu, 14 Oct 2021) EllapsedTime: 66.3 seconds RetCode: 0 Status: OK