Package: MIGSA Version: 1.16.0 Command: chmod a+r MIGSA -R && C:\Users\biocbuild\bbs-3.13-bioc\R\bin\R.exe CMD build --keep-empty-dirs --no-resave-data MIGSA StartedAt: 2021-10-14 15:41:56 -0400 (Thu, 14 Oct 2021) EndedAt: 2021-10-14 15:46:26 -0400 (Thu, 14 Oct 2021) EllapsedTime: 269.6 seconds RetCode: 0 Status: OK PackageFile: MIGSA_1.16.0.tar.gz PackageFileSize: 2.655 MiB