Package: MOGAMUN Version: 1.2.1 Command: rm -rf MOGAMUN.buildbin-libdir && mkdir MOGAMUN.buildbin-libdir && C:\Users\biocbuild\bbs-3.13-bioc\R\bin\R.exe CMD INSTALL --merge-multiarch --build --library=MOGAMUN.buildbin-libdir MOGAMUN_1.2.1.tar.gz StartedAt: 2021-10-15 10:29:56 -0400 (Fri, 15 Oct 2021) EndedAt: 2021-10-15 10:31:22 -0400 (Fri, 15 Oct 2021) EllapsedTime: 85.8 seconds RetCode: 0 Status: OK PackageFile: MOGAMUN_1.2.1.zip PackageFileSize: 194.3 KiB