git_url: https://git.bioconductor.org/packages/MOMA git_branch: RELEASE_3_13 git_last_commit: 8a75832 git_last_commit_date: 2021-05-19 12:52:02 -0400 (Wed, 19 May 2021) Package: MOMA Version: 1.4.0 Maintainer: Sunny Jones MaintainerEmail: sunnyjjones at gmail.com