git_url: https://git.bioconductor.org/packages/MPRAnalyze git_branch: RELEASE_3_13 git_last_commit: a4175d2 git_last_commit_date: 2021-05-19 12:38:28 -0400 (Wed, 19 May 2021) Package: MPRAnalyze Version: 1.10.0 Maintainer: Tal Ashuach MaintainerEmail: tal_ashuach at berkeley.edu